BEGIN:VCALENDAR
VERSION:2.0
PRODID:-//VA Women in HPC - ECPv6.1.0.2//NONSGML v1.0//EN
CALSCALE:GREGORIAN
METHOD:PUBLISH
X-WR-CALNAME:VA Women in HPC
X-ORIGINAL-URL:https://va-whpc.org
X-WR-CALDESC:Events for VA Women in HPC
REFRESH-INTERVAL;VALUE=DURATION:PT1H
X-Robots-Tag:noindex
X-PUBLISHED-TTL:PT1H
BEGIN:VTIMEZONE
TZID:America/New_York
BEGIN:DAYLIGHT
TZOFFSETFROM:-0500
TZOFFSETTO:-0400
TZNAME:EDT
DTSTART:20250309T070000
END:DAYLIGHT
BEGIN:STANDARD
TZOFFSETFROM:-0400
TZOFFSETTO:-0500
TZNAME:EST
DTSTART:20251102T060000
END:STANDARD
BEGIN:DAYLIGHT
TZOFFSETFROM:-0500
TZOFFSETTO:-0400
TZNAME:EDT
DTSTART:20260308T070000
END:DAYLIGHT
BEGIN:STANDARD
TZOFFSETFROM:-0400
TZOFFSETTO:-0500
TZNAME:EST
DTSTART:20261101T060000
END:STANDARD
END:VTIMEZONE
BEGIN:VEVENT
DTSTART;TZID=America/New_York:20251210T130000
DTEND;TZID=America/New_York:20251210T140000
DTSTAMP:20260421T011610
CREATED:20251117T065723Z
LAST-MODIFIED:20251212T180127Z
UID:7076-1765371600-1765375200@va-whpc.org
SUMMARY:Save the Date: Meandering Paths: Two Women’s Journeys to Cybersecurity
DESCRIPTION:About the Event		\n				\n						\n					\n		\n								\n					\n		\n				\n						\n							\n					\n			\n							\n						\n				\n								\n				Uniting Women in Cyber\, the premier annual conference hosted by The Cyber Guild\, is a flagship event that welcomes and unites individuals from all walks of life\, stages in their careers\, and career interests\, in Cybersecurity. Cyber is everywhere and our security\, from a national to a personal perspective\, whether privatizing data or shifting a collective “ripe for the taking” mindset through dis/information\,- should be of paramount importance and is central to how we should educate this and future generations. UWIC ’22 “Stronger Together” will focus on workforce advancement and security (national and personal) from both industry and government perspectives. We will discuss the benefits of including non-traditional talent and the importance of psychological safety\, as well as discuss government agencies and leading industry cybersecurity agendas. This conference will unpack the human considerations around our culture and societal norms\, transitioning paths for professionals\, developing non-traditional talent\, and unearthing mindsets that will enable change and growth. 					\n						\n				\n				\n				\n								\n									\n						\n				\n						\n					\n		\n								\n					\n		\n				\n						\n							\n					\n			\n							\n						\n				\n								\n									\n						\n				\n				\n				\n					\n			\n		\n				\n				\n				\n				\n					\n			\n						\n						Register Now\n		\n					\n		\n				\n				\n				\n				\n					\n			\n		\n				\n				\n				\n				\n			The Attendees		\n				\n				\n				\n								\n				The UWIC attendees are made up of career professionals\, executives\, and students from both public and private sectors\, currently engaged in the cybersecurity agenda or profession\, or those interested in exploring cyber security as a meaningful career.  Early Bird Tickets are available until July 31st\, purchase before July 31 to take advantage of our Early Bird pricing. 					\n						\n				\n				\n				\n								\n									\n						\n				\n				\n				\n					\n			\n		\n				\n				\n				\n				\n			Need Assistance?		\n				\n				\n				\n								\n									\n						\n				\n				\n				\n								\n				Should you have any questions please reach out to the UWIC event team The Prism at Romina@bytheprism.com.
URL:https://va-whpc.org/event/meandering-paths/
LOCATION:Virtual Event
CATEGORIES:VA-WHPC Event
END:VEVENT
BEGIN:VEVENT
DTSTART;TZID=America/New_York:20260318T130000
DTEND;TZID=America/New_York:20260318T140000
DTSTAMP:20260421T011611
CREATED:20260305T200634Z
LAST-MODIFIED:20260319T183449Z
UID:7128-1773838800-1773842400@va-whpc.org
SUMMARY:Save the Date: AI in HPC Panel
DESCRIPTION:About the Event		\n				\n						\n					\n		\n								\n					\n		\n				\n						\n							\n					\n			\n							\n						\n				\n								\n				Uniting Women in Cyber\, the premier annual conference hosted by The Cyber Guild\, is a flagship event that welcomes and unites individuals from all walks of life\, stages in their careers\, and career interests\, in Cybersecurity. Cyber is everywhere and our security\, from a national to a personal perspective\, whether privatizing data or shifting a collective “ripe for the taking” mindset through dis/information\,- should be of paramount importance and is central to how we should educate this and future generations. UWIC ’22 “Stronger Together” will focus on workforce advancement and security (national and personal) from both industry and government perspectives. We will discuss the benefits of including non-traditional talent and the importance of psychological safety\, as well as discuss government agencies and leading industry cybersecurity agendas. This conference will unpack the human considerations around our culture and societal norms\, transitioning paths for professionals\, developing non-traditional talent\, and unearthing mindsets that will enable change and growth. 					\n						\n				\n				\n				\n								\n									\n						\n				\n						\n					\n		\n								\n					\n		\n				\n						\n							\n					\n			\n							\n						\n				\n								\n									\n						\n				\n				\n				\n					\n			\n		\n				\n				\n				\n				\n					\n			\n						\n						Register Now\n		\n					\n		\n				\n				\n				\n				\n					\n			\n		\n				\n				\n				\n				\n			The Attendees		\n				\n				\n				\n								\n				The UWIC attendees are made up of career professionals\, executives\, and students from both public and private sectors\, currently engaged in the cybersecurity agenda or profession\, or those interested in exploring cyber security as a meaningful career.  Early Bird Tickets are available until July 31st\, purchase before July 31 to take advantage of our Early Bird pricing. 					\n						\n				\n				\n				\n								\n									\n						\n				\n				\n				\n					\n			\n		\n				\n				\n				\n				\n			Need Assistance?		\n				\n				\n				\n								\n									\n						\n				\n				\n				\n								\n				Should you have any questions please reach out to the UWIC event team The Prism at Romina@bytheprism.com.
URL:https://va-whpc.org/event/save-the-date-ai-in-hpc-panel/
LOCATION:Virtual Event
END:VEVENT
BEGIN:VEVENT
DTSTART;TZID=America/New_York:20260422T130000
DTEND;TZID=America/New_York:20260422T140000
DTSTAMP:20260421T011611
CREATED:20260317T162834Z
LAST-MODIFIED:20260417T210156Z
UID:7169-1776862800-1776866400@va-whpc.org
SUMMARY:Save the Date: VA-WHPC Student Lightning Talks V
DESCRIPTION:About the Event		\n				\n						\n					\n		\n								\n					\n		\n				\n						\n							\n					\n			\n							\n						\n				\n								\n				Uniting Women in Cyber\, the premier annual conference hosted by The Cyber Guild\, is a flagship event that welcomes and unites individuals from all walks of life\, stages in their careers\, and career interests\, in Cybersecurity. Cyber is everywhere and our security\, from a national to a personal perspective\, whether privatizing data or shifting a collective “ripe for the taking” mindset through dis/information\,- should be of paramount importance and is central to how we should educate this and future generations. UWIC ’22 “Stronger Together” will focus on workforce advancement and security (national and personal) from both industry and government perspectives. We will discuss the benefits of including non-traditional talent and the importance of psychological safety\, as well as discuss government agencies and leading industry cybersecurity agendas. This conference will unpack the human considerations around our culture and societal norms\, transitioning paths for professionals\, developing non-traditional talent\, and unearthing mindsets that will enable change and growth. 					\n						\n				\n				\n				\n								\n									\n						\n				\n						\n					\n		\n								\n					\n		\n				\n						\n							\n					\n			\n							\n						\n				\n								\n									\n						\n				\n				\n				\n					\n			\n		\n				\n				\n				\n				\n					\n			\n						\n						Register Now\n		\n					\n		\n				\n				\n				\n				\n					\n			\n		\n				\n				\n				\n				\n			The Attendees		\n				\n				\n				\n								\n				The UWIC attendees are made up of career professionals\, executives\, and students from both public and private sectors\, currently engaged in the cybersecurity agenda or profession\, or those interested in exploring cyber security as a meaningful career.  Early Bird Tickets are available until July 31st\, purchase before July 31 to take advantage of our Early Bird pricing. 					\n						\n				\n				\n				\n								\n									\n						\n				\n				\n				\n					\n			\n		\n				\n				\n				\n				\n			Need Assistance?		\n				\n				\n				\n								\n									\n						\n				\n				\n				\n								\n				Should you have any questions please reach out to the UWIC event team The Prism at Romina@bytheprism.com.
URL:https://va-whpc.org/event/save-the-date-va-whpc-student-lightning-talks-iv/
LOCATION:Virtual Event
CATEGORIES:VA-WHPC Event
END:VEVENT
END:VCALENDAR