BEGIN:VCALENDAR
VERSION:2.0
PRODID:-//VA Women in HPC - ECPv6.1.0.2//NONSGML v1.0//EN
CALSCALE:GREGORIAN
METHOD:PUBLISH
X-WR-CALNAME:VA Women in HPC
X-ORIGINAL-URL:https://va-whpc.org
X-WR-CALDESC:Events for VA Women in HPC
REFRESH-INTERVAL;VALUE=DURATION:PT1H
X-Robots-Tag:noindex
X-PUBLISHED-TTL:PT1H
BEGIN:VTIMEZONE
TZID:America/New_York
BEGIN:DAYLIGHT
TZOFFSETFROM:-0500
TZOFFSETTO:-0400
TZNAME:EDT
DTSTART:20210314T070000
END:DAYLIGHT
BEGIN:STANDARD
TZOFFSETFROM:-0400
TZOFFSETTO:-0500
TZNAME:EST
DTSTART:20211107T060000
END:STANDARD
BEGIN:DAYLIGHT
TZOFFSETFROM:-0500
TZOFFSETTO:-0400
TZNAME:EDT
DTSTART:20220313T070000
END:DAYLIGHT
BEGIN:STANDARD
TZOFFSETFROM:-0400
TZOFFSETTO:-0500
TZNAME:EST
DTSTART:20221106T060000
END:STANDARD
END:VTIMEZONE
BEGIN:VEVENT
DTSTART;TZID=America/New_York:20220427T130000
DTEND;TZID=America/New_York:20220427T130000
DTSTAMP:20260420T122201
CREATED:20220411T165843Z
LAST-MODIFIED:20250404T170859Z
UID:4778-1651064400-1651064400@va-whpc.org
SUMMARY:VA-WHPC: Supercomputing For Everyone
DESCRIPTION:On July 16\, 2024\, Scott Yockel\, Ph.D.\, Research Computing Officer at Harvard shared valuable insights on RCD career opportunities\, trajectories\, and trends. His expertise enriched our audience and contributed significantly to the advancement of our profession through the definition of job families. 					\n						\n				\n						\n					\n		\n								\n					\n		\n				\n						\n							\n					\n			\n							\n						\n				\n					\n			\n						\n						Watch the Recording\n		\n					\n		\n				\n				\n						\n					\n		\n								\n					\n		\n				\n						\n							\n					\n			\n							\n						\n				\n								\n				Speaker: Dr. Scott Yockel\, the University Research Computing Officer at Harvard\, develops and advocates for a university-wide research computing strategy\, collaborating with faculty and university leadership to address emerging needs and secure funding. He is actively involved in national and regional initiatives like CaRCC and MGHPCC\, leading projects such as the New England Research Cloud and Northeast Storage Exchange. Attachments: Carcc WebsitePEARC’20 PaperCaRCC Data Request Form
URL:https://va-whpc.org/event/virginia-women-in-hpc-supercomputing-for-everyone/
LOCATION:Virtual Event
CATEGORIES:VA-WHPC Event
END:VEVENT
BEGIN:VEVENT
DTSTART;TZID=America/New_York:20220125T130000
DTEND;TZID=America/New_York:20220125T140000
DTSTAMP:20260420T122202
CREATED:20220418T194828Z
LAST-MODIFIED:20250404T170505Z
UID:4863-1643115600-1643119200@va-whpc.org
SUMMARY:VA-WHPC: Research Highlights
DESCRIPTION:On July 16\, 2024\, Scott Yockel\, Ph.D.\, Research Computing Officer at Harvard shared valuable insights on RCD career opportunities\, trajectories\, and trends. His expertise enriched our audience and contributed significantly to the advancement of our profession through the definition of job families. 					\n						\n				\n						\n					\n		\n								\n					\n		\n				\n						\n							\n					\n			\n							\n						\n				\n					\n			\n						\n						Watch the Recording\n		\n					\n		\n				\n				\n						\n					\n		\n								\n					\n		\n				\n						\n							\n					\n			\n							\n						\n				\n								\n				Speaker: Dr. Scott Yockel\, the University Research Computing Officer at Harvard\, develops and advocates for a university-wide research computing strategy\, collaborating with faculty and university leadership to address emerging needs and secure funding. He is actively involved in national and regional initiatives like CaRCC and MGHPCC\, leading projects such as the New England Research Cloud and Northeast Storage Exchange. Attachments: Carcc WebsitePEARC’20 PaperCaRCC Data Request Form
URL:https://va-whpc.org/event/virginia-women-in-hpc-research-highlights/
LOCATION:Virtual Event
CATEGORIES:VA-WHPC Event
END:VEVENT
BEGIN:VEVENT
DTSTART;TZID=America/New_York:20211006T130000
DTEND;TZID=America/New_York:20211006T140000
DTSTAMP:20260420T122202
CREATED:20220418T195440Z
LAST-MODIFIED:20250404T170043Z
UID:4869-1633525200-1633528800@va-whpc.org
SUMMARY:Inaugural Event: Virginia Women in HPC
DESCRIPTION:On July 16\, 2024\, Scott Yockel\, Ph.D.\, Research Computing Officer at Harvard shared valuable insights on RCD career opportunities\, trajectories\, and trends. His expertise enriched our audience and contributed significantly to the advancement of our profession through the definition of job families. 					\n						\n				\n						\n					\n		\n								\n					\n		\n				\n						\n							\n					\n			\n							\n						\n				\n					\n			\n						\n						Watch the Recording\n		\n					\n		\n				\n				\n						\n					\n		\n								\n					\n		\n				\n						\n							\n					\n			\n							\n						\n				\n								\n				Speaker: Dr. Scott Yockel\, the University Research Computing Officer at Harvard\, develops and advocates for a university-wide research computing strategy\, collaborating with faculty and university leadership to address emerging needs and secure funding. He is actively involved in national and regional initiatives like CaRCC and MGHPCC\, leading projects such as the New England Research Cloud and Northeast Storage Exchange. Attachments: Carcc WebsitePEARC’20 PaperCaRCC Data Request Form
URL:https://va-whpc.org/event/inaugural-event-virginia-women-in-hpc/
LOCATION:Virtual Event
CATEGORIES:VA-WHPC Event
END:VEVENT
END:VCALENDAR