BEGIN:VCALENDAR
VERSION:2.0
PRODID:-//VA Women in HPC - ECPv6.1.0.2//NONSGML v1.0//EN
CALSCALE:GREGORIAN
METHOD:PUBLISH
X-WR-CALNAME:VA Women in HPC
X-ORIGINAL-URL:https://va-whpc.org
X-WR-CALDESC:Events for VA Women in HPC
REFRESH-INTERVAL;VALUE=DURATION:PT1H
X-Robots-Tag:noindex
X-PUBLISHED-TTL:PT1H
BEGIN:VTIMEZONE
TZID:America/New_York
BEGIN:DAYLIGHT
TZOFFSETFROM:-0500
TZOFFSETTO:-0400
TZNAME:EDT
DTSTART:20260308T070000
END:DAYLIGHT
BEGIN:STANDARD
TZOFFSETFROM:-0400
TZOFFSETTO:-0500
TZNAME:EST
DTSTART:20261101T060000
END:STANDARD
END:VTIMEZONE
BEGIN:VEVENT
DTSTART;TZID=America/New_York:20260422T130000
DTEND;TZID=America/New_York:20260422T140000
DTSTAMP:20260421T203321
CREATED:20260317T162834Z
LAST-MODIFIED:20260417T210156Z
UID:7169-1776862800-1776866400@va-whpc.org
SUMMARY:Save the Date: VA-WHPC Student Lightning Talks V
DESCRIPTION:How does HPC help with your scientific research - Faculty perspectives\, Part II		\n				\n				\n				\n			Watch the recording.		\n				\n				\n				\n					\n					\n				\n				\n				\n				\n					\n			\n		\n				\n				\n				\n				\n								\n				We are proud to announce the founding of Virginia’s first Women in High-Performance Computing (VA-WHPC) program. Thank you for those that joined us for our first event of 2022: Female research leaders of the Commonwealth sharing and discussing how HPC has facilitated their scientific research and professional careers. Our speakers:Anne Brown (VT)Anne is an Assistant Professor of Biochemistry\, Science Informatics Consultant and Health Analytics Coordinator at Virginia Tech. Her research interests include utilizing computational modeling to answer biological questions and aid in drug discovery and the application of computational molecular modeling to elucidate the relationship between structure\, function\, and dynamics of biomolecules. Jenna Cann (GMU)Jenna is a postdoctoral fellow at NASA Goddard Space Flight Center. Jenna received a PhD in Physics from George Mason University. Her research focuses on studying black holes in dwarf and low metallicity galaxies\, in an effort to constrain the origins of supermassive black holes that can be up to billions of times the mass of our Sun. To do this\, they use both theoretical modeling with the Cloudy spectral simulation code and infrared and X-ray observations to determine the most effective ways to find these elusive objects. Jenna currently serves as a co-officer in the NASA Goddard Association for Postdoctoral and Early Career Scholars (NGAPS+) and was a co-founder of the GMU Physics and Astronomy department’s diversity\, equity\, inclusion\, and accessibility (DEIA) organization\, SPECTRUM. Alexis Edwards (VCU)Alexis is an Associate Professor of Psychiatry at Virginia Commonwealth University. Her research focuses on understanding the etiology of substance use disorders\, suicidal behavior\, and internalizing problems\, including how these outcomes are related to one another. Virginia WHPC is committed to increasing diversity and inclusion by promoting and encouraging the participation of women in high-performance computing and related fields. Subscribe to our mailing list.
URL:https://va-whpc.org/event/save-the-date-va-whpc-student-lightning-talks-iv/
LOCATION:Virtual Event
CATEGORIES:VA-WHPC Event
END:VEVENT
END:VCALENDAR